BEGIN:VCALENDAR
VERSION:2.0
PRODID:-//My Community Diary//iCal Event//EN
CALSCALE:GREGORIAN
METHOD:PUBLISH
BEGIN:VEVENT
UID:6401bfff-b82c-422c-89fc-2c115acc00b4
DTSTAMP:20260422T032504Z
DTSTART;TZID=E. Australia Standard Time:20220728T174500
DTEND;TZID=E. Australia Standard Time:20220728T194500
SUMMARY:Boxercise
DESCRIPTION:Try Richmond's free boxing sessions with Maks Boxing Gym every Thursday at 5:45pm.\n\nVisit moveitnq.com.au/ and check out our program calendar to see what's on in your area.\n
LOCATION:Charlie Wehlow Oval\, 65 Goldring Street Richmond QLD 4822\, QLD\, 4822
RRULE:FREQ=WEEKLY;INTERVAL=1;BYDAY=TH
END:VEVENT
END:VCALENDAR
