BEGIN:VCALENDAR
VERSION:2.0
PRODID:-//My Community Diary//iCal Event//EN
CALSCALE:GREGORIAN
METHOD:PUBLISH
BEGIN:VEVENT
UID:ccd88858-a673-4d73-b8d0-0fc9227532af
DTSTAMP:20260422T032036Z
DTSTART;TZID=E. Australia Standard Time:20221201T100000
DTEND;TZID=E. Australia Standard Time:20221201T120000
SUMMARY:Soy Candle Making Class: Crystals and Botanicals
DESCRIPTION:Soy Candle Making Class: Crystals and Botanicals\n\nLooking for fun indoor activities? Learn how to make gorgeous soy candles adorned with crystals and botanicals at this fun experience in Mount Tamborine.\n\nWe'll provide you with everything you'll need to make your candles and you'll be led through the process of creating your own masterpieces.\n\nFor double the fun\, bring along a lovely friend to craft and catch up with. Soy candle making is also a great idea for laidback hens parties\, birthday parties or even fun team building activities.\n\nAt the end of this hands-on class\, you'll have made beautiful candles to enjoy at home\, decorated with gorgeous crystals and botanicals.\nKnowledge required\n\nAbsolute beginners welcome.\n&nbsp\;\n\nWhat you'll get\n\nYour our own handmade candles.\n&nbsp\;\n\nWhat to bring\n\n\n	A happy outlook.\n\n
LOCATION:Inspire Me Naturally Australia\, Shop 3 Gallery Walk\, 161 Long Road Tamborine Mountain QLD 4272\, QLD\, 4272
RRULE:FREQ=DAILY;INTERVAL=1
END:VEVENT
END:VCALENDAR
