BEGIN:VCALENDAR
VERSION:2.0
PRODID:-//My Community Diary//iCal Event//EN
CALSCALE:GREGORIAN
METHOD:PUBLISH
BEGIN:VEVENT
UID:63adfa4e-6a38-425c-bc6f-91fa5eaa8c7e
DTSTAMP:20260424T160633Z
DTSTART:20230822T083000Z
DTEND:20230822T163000Z
SUMMARY:Aon AgQuip
DESCRIPTION:Aon AgQuip is Australia’s largest and premier primary industry field day.  \n\nIn 2023 AgQuip celebrates its 50th anniversary (1973 – 2023). \n\nThe nation’s biggest agricultural event showcases over 3\,000 companies and attracts over 100\,000 visitors over three days from across the nation and overseas.  \n\nAgQuip is one of the world’s most significant agricultural events and is recognised as Australia’s number one field day. \n\nIt is organised and promoted by ACM Rural Events\, the organisers of major events in regional and rural Australia.\n\nEntry Cost\nAdult $5  - Online Ticket Entry | AUD5 Adults\, Children 12 and over & Pensioners\; Free Children 11 and under.  \n\nOn-site Gate Ticket Entry | AUD10 Adults\, Children 12 and over & Seniors\, Free Children 11 and under\nStudent $0  - School Group - Free entry\n*All students must be in School Uniform\nChild $0  - Children  11 years and under  - Free Entry
LOCATION:\, 134 Black Jack Road\, Gunnedah\, NSW 2380\, NSW\, 2380
RRULE:FREQ=DAILY;INTERVAL=1;UNTIL=20240823T000000Z
END:VEVENT
END:VCALENDAR
