BEGIN:VCALENDAR
VERSION:2.0
PRODID:-//My Community Diary//iCal Event//EN
CALSCALE:GREGORIAN
METHOD:PUBLISH
BEGIN:VEVENT
UID:15035203-f888-4b9f-a496-51ee3e36381a
DTSTAMP:20260421T205450Z
DTSTART;TZID=E. Australia Standard Time:20220309T083000
DTEND;TZID=E. Australia Standard Time:20220309T140000
SUMMARY:Dietitian - Mitchell
DESCRIPTION:Dietitians assess\, diagnose and treat dietary and nutritional conditions by providing education and support around individuals dietary choices. Our local dietitian's aim is to promote good health and prevent disease in our rural and regional communities.\n\nOur Dietitians help with:\n• Weight loss and obesity\n• Weight gain post illness\n• Eating disorders\n• Diabetes\n• Digestive problems such as Chrones Disease or IBS\n• Diet for sports performance\n• Other Chronic Disease Management\n• Allergies\n\n\nThe service delivery options for Dietetics include:\n• In clinic Face-to-face appointments\n• Telehealth\n
LOCATION:CWA Hall\, 87 Cambridge St\, Mitchell QLD\, Australia\, QLD\, 4465
RRULE:FREQ=WEEKLY;INTERVAL=2;BYDAY=WE
END:VEVENT
END:VCALENDAR
