BEGIN:VCALENDAR
VERSION:2.0
PRODID:-//My Community Diary//iCal Event//EN
CALSCALE:GREGORIAN
METHOD:PUBLISH
BEGIN:VEVENT
UID:a7fa112b-0913-45a6-9d20-f90e3fc51032
DTSTAMP:20260422T000646Z
DTSTART;TZID=E. Australia Standard Time:20220309T083000
DTEND;TZID=E. Australia Standard Time:20220309T140000
SUMMARY:Exercise Physiology - Mitchell
DESCRIPTION:Exercise Physiologists help to improve and maintain their patients overall health and wellbeing through education and personalised exercise programs. They also assist with conditions that require\nadaptive exercise as treatment such as obesity\, chronic disease\, injuries and more.\n\nOur Exercise Physiologists help to:\n• Improve Cardiovascular function\n• Increase physical fitness\, strength\, flexibility and overall mobility\n• Achieve or maintain optimum health\n• Achieve healthcare and/or fitness goals\n\nIn addition\, our Exercise Physiologist's also:\n• Organise and run local exercise groups\n• Administer exercise stress tests\n• Evaluate a person’s overall health\, with special attention to cardiovascular function and\nmetabolism\n\nExercise Physiology service delivery options:\n• Face-to-face in clinic\n• Home visits (where required)\n• Telehealth\n• Aged-care facility visits\n
LOCATION:CWA Hall\, 87 Cambridge Street\, Mitchell QLD\, Australia\, QLD\, 4465
RRULE:FREQ=WEEKLY;INTERVAL=1;BYDAY=WE
END:VEVENT
END:VCALENDAR
