BEGIN:VCALENDAR
VERSION:2.0
PRODID:-//My Community Diary//iCal Event//EN
CALSCALE:GREGORIAN
METHOD:PUBLISH
BEGIN:VEVENT
UID:caf7eb9b-d3ac-472f-b8e0-1a46dc9d7097
DTSTAMP:20260422T000549Z
DTSTART;TZID=E. Australia Standard Time:20220309T083000
DTEND;TZID=E. Australia Standard Time:20220309T140000
SUMMARY:Occupational Therapy - Mitchell
DESCRIPTION:Occupational Therapists assist both adults and children with their health and wellbeing by enabling their performance and independence in activities of everyday life. They use a variety of assessment and treatment method to help people over come barriers that have been created by various health issues.\n\n&nbsp\;\n\nHealth conditions that our local Occupational Therapists can help with include:&nbsp\;\n\n\n	Paediatric and developmental issues\n	Chronic disease\n	Cognitive decline\n	Chronic pain&nbsp\;\n	Mental Illness\n	Disability\n	Injury\n	Aged Care\n\n\nOccupational Therapy service delivery options:\n• Face-to-face in clinic\n• Home visits (where required)\n• Telehealth\n• Kindy and School visits\n• Aged-care facility visits\n
LOCATION:CWA Hall\, 87 Cambridge Street\, Mitchell QLD\, Australia\, QLD\, 4465
RRULE:FREQ=WEEKLY;INTERVAL=1;BYDAY=WE
END:VEVENT
END:VCALENDAR
