BEGIN:VCALENDAR
VERSION:2.0
PRODID:-//My Community Diary//iCal Event//EN
CALSCALE:GREGORIAN
METHOD:PUBLISH
BEGIN:VEVENT
UID:cbbbc11d-a260-4fe7-84f5-705cc7ae4fd2
DTSTAMP:20260422T014624Z
DTSTART;TZID=E. Australia Standard Time:20220309T083000
DTEND;TZID=E. Australia Standard Time:20220309T140000
SUMMARY:Speech Pathology - Mitchell
DESCRIPTION:Speech Pathologists assist adults and children who have difficulty communicating and/or swallowing due to child developmental delays\, stroke\, brain injuries\, intellectual disability\, cerebral\npalsy\, dementia and hearing loss\, as well as other problems that affect speech and language.\n&nbsp\;\n\nOur local Speech Pathologist diagnoses and provides therapy for conditions relating to:\n• Speech - the oral form of communication and the production of sounds and articulation\n• Language - a whole system of words and symbols – written\, spoken or expressed with\ngestures and body language – that is used to communicate meaning\n• Voice - the basic sound for speech and singing. People may experience changes to their\nvoice e.g. sounding hoarse\, husky\, being too loud or too quiet\n• Fluency – This includes stuttering and cluttering\n• Multimodal Communication – Communication using sign\, communication boards and other\ndevices\n• Swallowing – swallowing food\, fluid and saliva management\n\nSpeech Pathology service delivery options:\n\n• Face-to-face in clinic\n• Home visits (where required)\n• Telehealth\n• Kindy and School visits\n• Aged-care facility visits\n
LOCATION:CWA Hall\, 87 Cambridge Street\, Mitchell QLD\, Australia\, QLD\, 4465
RRULE:FREQ=WEEKLY;INTERVAL=1;BYDAY=WE
END:VEVENT
END:VCALENDAR
