BEGIN:VCALENDAR
VERSION:2.0
PRODID:-//My Community Diary//iCal Event//EN
CALSCALE:GREGORIAN
METHOD:PUBLISH
BEGIN:VEVENT
UID:82ba049e-874a-4cc8-b69c-4ff4318efaa4
DTSTAMP:20260422T000606Z
DTSTART;TZID=E. Australia Standard Time:20220208T190000
DTEND;TZID=E. Australia Standard Time:20220208T213000
SUMMARY:UFO Crafters - Roma Patchwork
DESCRIPTION:UFO Crafters (Unfinished Object) is the Tuesday night group of Roma Patchwork &amp\; Crafters Inc.\n\nJoin us at 7pm on Tuesday nights in Studio 6 of Roma Community Arts Centre to work on your unfinished (or new) craft project.&nbsp\; Any 'dry' craft welome. (Please don't bring paint\, we have really lovely new carpet).\n\n$5 per studio visit.&nbsp\; Come and join the fun.\n\n\n
LOCATION:Roma Patchwork and Crafters Inc\, Hawthorne Street\, Roma QLD 4455\, QLD\, 4455
RRULE:FREQ=WEEKLY;INTERVAL=1;BYDAY=TU
END:VEVENT
END:VCALENDAR
