BEGIN:VCALENDAR
VERSION:2.0
PRODID:-//My Community Diary//iCal Event//EN
CALSCALE:GREGORIAN
METHOD:PUBLISH
BEGIN:VEVENT
UID:dba0b3c0-3830-4868-8bc3-a6297db7170a
DTSTAMP:20260422T031916Z
DTSTART;TZID=E. Australia Standard Time:20220203T093000
DTEND;TZID=E. Australia Standard Time:20220203T103000
SUMMARY:Baby Hour Thursdays
DESCRIPTION:Join us in the library with informal self-led sensory play. &nbsp\;Explore sensory feel books &amp\; activities with your bubba at their own pace. Recommended ages 0-1.\n
LOCATION:Roma Library\, 38-44 Hawthorne Street\, Roma QLD 4455\, QLD\, 4455
RRULE:FREQ=MONTHLY;INTERVAL=1;BYDAY=3MO
END:VEVENT
END:VCALENDAR
