BEGIN:VCALENDAR
VERSION:2.0
PRODID:-//My Community Diary//iCal Event//EN
CALSCALE:GREGORIAN
METHOD:PUBLISH
BEGIN:VEVENT
UID:9ad94e70-1e19-454f-a4e9-6cd032a06b7e
DTSTAMP:20260422T013543Z
DTSTART;TZID=E. Australia Standard Time:20220210T093000
DTEND;TZID=E. Australia Standard Time:20220210T100000
SUMMARY:Story Time Thursdays
DESCRIPTION:Pull up a comfy cushion as we read stories of adventure and fun!\n
LOCATION:Roma Library\, 38-44 Hawthorne Street\, Roma QLD 4455\, QLD\, 4455
RRULE:FREQ=MONTHLY;INTERVAL=1;BYDAY=3MO
END:VEVENT
END:VCALENDAR
