BEGIN:VCALENDAR
VERSION:2.0
PRODID:-//My Community Diary//iCal Event//EN
CALSCALE:GREGORIAN
METHOD:PUBLISH
BEGIN:VEVENT
UID:c1e68c34-e523-4e6d-ab15-23591e2f73e4
DTSTAMP:20260422T031932Z
DTSTART;TZID=AUS Eastern Standard Time:20220205T110000
DTEND;TZID=AUS Eastern Standard Time:20220205T130000
SUMMARY:Registration /Sign Up Days
DESCRIPTION:Registration Sign Up is open to all boys and girls to play football (soccer) with our club\n\nDates are\n\nSaturday 5\, 12\, 19 February&nbsp\; 11am to 1pm\n\nThursday 10\, 17\, 24 February&nbsp\; 3pm to 6pm\n\nWhere Kemp Street Fields\n
LOCATION:Kemp Street Sporting Complex\, Kemp Street\, West Kempsey NSW\, Australia\, NSW\, 2440
RRULE:FREQ=DAILY;INTERVAL=1
END:VEVENT
END:VCALENDAR
