BEGIN:VCALENDAR
VERSION:2.0
PRODID:-//My Community Diary//iCal Event//EN
CALSCALE:GREGORIAN
METHOD:PUBLISH
BEGIN:VEVENT
UID:787ddfe1-08f9-4ca8-b1c4-544a295c58c3
DTSTAMP:20260422T032030Z
DTSTART;TZID=AUS Eastern Standard Time:20220130T071500
DTEND;TZID=AUS Eastern Standard Time:20220130T083000
SUMMARY:Running Stars - Curl Curl
DESCRIPTION:Running Stars is a family-friendly weekly community running\, jogging\, walking event open to everyone in the community.\n\n&nbsp\;\n\nBecome a Star .&nbsp\; Totally FREE.\n\n&nbsp\;\n\nRun\, jog or walk either 2.5K\, 5K or 10K.\n\n&nbsp\;\n\nEvery Sunday at 7.15am for a 7.30am start.\n\n&nbsp\;\n\nCovid Safe event.\nGreat event for mums\, dads and kids!\nSmart technology timing.\nPost run coffee.\n\n&nbsp\;\n\nRegister (only required once) at "app.runningstars.org.au" by 5pm on the Saturday prior to your first run.\n\n&nbsp\;\n\nComplete the 2.5km course once\, twice or four times at whatever pace suits you. Then feel free to join us afterward for a coffee and chat.\n\n&nbsp\;\n\nDid we mention it's free?\n
LOCATION:Running Stars - Curl Curl\, Abbott Road John Fisher Park - Netball Courts\, North Curl Curl NSW 2099\, NSW\, 2099
RRULE:FREQ=WEEKLY;INTERVAL=1;BYDAY=SU
END:VEVENT
END:VCALENDAR
