BEGIN:VCALENDAR
VERSION:2.0
PRODID:-//My Community Diary//iCal Event//EN
CALSCALE:GREGORIAN
METHOD:PUBLISH
BEGIN:VEVENT
UID:f0186350-55e6-402a-a758-01b9fc6980eb
DTSTAMP:20260422T035708Z
DTSTART;TZID=W. Australia Standard Time:20240930T183000
DTEND;TZID=W. Australia Standard Time:20240930T200000
SUMMARY:Victoria Park Toastmasters Meeting
DESCRIPTION:\n\nToastmasters International is a non-profit educational organization that teaches public speaking and leadership skills through a worldwide network. Toastmasters spans over 16\,800 clubs in 143&nbsp\;countries.\n\nToastmasters will give you the opportunity to practice:\n\n\n	Conducting meetings\n	Giving impromptu speeches\n	Presenting prepared speeches\n	Offering constructive evaluations\n	Leadership skills\n\n\n\n
LOCATION:Victoria Park Toastmasters\, Fred Bell Parade\, East Victoria Park WA 6101\, WA\, 6101
RRULE:FREQ=DAILY;INTERVAL=14
END:VEVENT
END:VCALENDAR
