BEGIN:VCALENDAR
VERSION:2.0
PRODID:-//My Community Diary//iCal Event//EN
CALSCALE:GREGORIAN
METHOD:PUBLISH
BEGIN:VEVENT
UID:e437003c-a744-4d9f-9c1f-16909075e585
DTSTAMP:20260424T160641Z
DTSTART:20201207T080000Z
DTEND:20201207T170000Z
SUMMARY:Diabetes Education - Tully
DESCRIPTION:O'Brien Health Care at Mamu Health Service Limited - Tully. Please confirm precise times with the service provider.
LOCATION:\, 17 Bryant Street\, Tully\, QLD\, 4854\, QLD\, 4854
END:VEVENT
END:VCALENDAR
