BEGIN:VCALENDAR
VERSION:2.0
PRODID:-//My Community Diary//iCal Event//EN
CALSCALE:GREGORIAN
METHOD:PUBLISH
BEGIN:VEVENT
UID:f84776e6-21c8-436d-8e2d-51423b862a54
DTSTAMP:20260421T222238Z
DTSTART;TZID=E. Australia Standard Time:20211027T170000
DTEND;TZID=E. Australia Standard Time:20211027T190000
SUMMARY:Sip & Create Crystal\, Botanical Candle Class
DESCRIPTION:\n	Our Crystal Soy Candle Making Workshop is to be held at 1/14 Ereton Drive\, Arundel.\n\n\n&nbsp\;\n\n\n	During this workshop you will learn to make&nbsp\;candles adorned with crystals and botanicals\, and you will also take 3 of your very own candles home!\n\n\n&nbsp\;\n\n\n	Everything is&nbsp\;included plus access to the tools you will need to create your own&nbsp\;masterpiece.\n\n\n&nbsp\;\n\n\n	For double the fun\, bring along a lovely friend to craft&nbsp\;and&nbsp\;catch up with\n\n\n&nbsp\;\n\n\n	Light refreshments will be supplied.\n\n\n&nbsp\;\n\n\n	&nbsp\;BYO Platter &amp\; Beverages for the night time classes.\n\n
LOCATION:Inspire Me Naturally Australia\, Shop 3 Gallery Walk\, 161 Long Road Tamborine Mountain QLD 4272\, QLD\, 4272
RRULE:FREQ=DAILY;INTERVAL=1
END:VEVENT
END:VCALENDAR
