BEGIN:VCALENDAR
VERSION:2.0
PRODID:-//My Community Diary//iCal Event//EN
CALSCALE:GREGORIAN
METHOD:PUBLISH
BEGIN:VEVENT
UID:0d5b8bab-d834-45b6-9640-5a5a380a651b
DTSTAMP:20260422T000545Z
DTSTART;TZID=E. Australia Standard Time:20211019T120000
DTEND;TZID=E. Australia Standard Time:20211019T160000
SUMMARY:Cards
DESCRIPTION:$ 5 per person - Includes afternoon tea.\nHeld at the 60 &amp\; Better Office in the activity room.\nContact Joyce 49 288417 for further information!\n
LOCATION:\, 248 Quay Street\, Rockhampton City QLD 4700\, Australia\, QLD\, 4700
RRULE:FREQ=WEEKLY;INTERVAL=1;BYDAY=TU
END:VEVENT
END:VCALENDAR
