BEGIN:VCALENDAR
VERSION:2.0
PRODID:-//My Community Diary//iCal Event//EN
CALSCALE:GREGORIAN
METHOD:PUBLISH
BEGIN:VEVENT
UID:4bfa1af3-251c-49a2-8af4-c0830ea69560
DTSTAMP:20260422T031932Z
DTSTART;TZID=E. Australia Standard Time:20211018T081500
DTEND;TZID=E. Australia Standard Time:20211018T123000
SUMMARY:Cards - 
DESCRIPTION:$5&nbsp\;per person - Held at the 60 &amp\; Better Office in the activity room.\nContact Joyce 49 288417 for further information\n
LOCATION:60 & Better Rockhampton \, 248 Quay Street\, Rockhampton City QLD 4700\, Australia\, QLD\, 4700
RRULE:FREQ=WEEKLY;INTERVAL=1;BYDAY=MO
END:VEVENT
END:VCALENDAR
