BEGIN:VCALENDAR
VERSION:2.0
PRODID:-//My Community Diary//iCal Event//EN
CALSCALE:GREGORIAN
METHOD:PUBLISH
BEGIN:VEVENT
UID:7622b27c-ef9a-4371-a425-8e17fd9c5894
DTSTAMP:20260422T014806Z
DTSTART;TZID=E. Australia Standard Time:20240207T090000
DTEND;TZID=E. Australia Standard Time:20240207T120000
SUMMARY:KindyLinQ - Fairview Heights State School
DESCRIPTION:KindyLinQ is a fun\, free play and learn session for&nbsp\;children birth to three and their families.&nbsp\;\n\nAt KindyLinQ\, we have facilitators who have extensive experience&nbsp\;working with children\, especially children&nbsp\;from diverse&nbsp\;backgrounds such as children with disabilities and&nbsp\;Aboriginal and Torres Strait Islander children.\n\nWe want to give all children a great start by helping develop their skills as a confident learner. The play-based learning environment of KindyLinQ is perfect for young developing minds and a great place for parents\, grandparents and carers to connect with others in the community. You and your child will enjoy&nbsp\;exploring\, singing\, creating\, socialising\, playing and learning.\n
LOCATION:KindyLinQ - Fairview Heights State School\, 75 McDougall Street\, Wilsonton QLD 4350\, QLD\, 4350
RRULE:FREQ=WEEKLY;INTERVAL=1;BYDAY=WE
END:VEVENT
END:VCALENDAR
