BEGIN:VCALENDAR
VERSION:2.0
PRODID:-//My Community Diary//iCal Event//EN
CALSCALE:GREGORIAN
METHOD:PUBLISH
BEGIN:VEVENT
UID:e6943d0a-ab13-4860-a3ba-85fc8319ca1b
DTSTAMP:20260422T032505Z
DTSTART;TZID=E. Australia Standard Time:20211021T093000
DTEND;TZID=E. Australia Standard Time:20211021T143000
SUMMARY:Diabetes Educator - Mitchell
DESCRIPTION:SWHHS provide a Diabetes Education service which help with education and management of Diabetes in patients to understand the affects\, and work with them to set (and meet) behaviour change goals to improve their health.\n
LOCATION:Mitchell Multipurpose Health Service\, 95 Ann Street\, Mitchell QLD 4465\, QLD\, 4465
RRULE:FREQ=MONTHLY;INTERVAL=1;BYDAY=3MO
END:VEVENT
END:VCALENDAR
