BEGIN:VCALENDAR
VERSION:2.0
PRODID:-//My Community Diary//iCal Event//EN
CALSCALE:GREGORIAN
METHOD:PUBLISH
BEGIN:VEVENT
UID:ee0b327e-5454-4e7a-b12f-647656302964
DTSTAMP:20260422T000547Z
DTSTART;TZID=E. Australia Standard Time:20211007T093000
DTEND;TZID=E. Australia Standard Time:20211007T143000
SUMMARY:Diabetes Educator - Mitchell
DESCRIPTION:SWHHS provide a Diabetes Education service which help with education and management of Diabetes in patients to understand the affects\, and work with them to set (and meet) behaviour change goals to improve their health.\n
LOCATION:Mitchell Multipurpose Health Service\, 95 Ann Street\, Mitchell QLD 4465\, QLD\, 4465
RRULE:FREQ=MONTHLY;INTERVAL=1;BYDAY=3MO
END:VEVENT
END:VCALENDAR
