BEGIN:VCALENDAR
VERSION:2.0
PRODID:-//My Community Diary//iCal Event//EN
CALSCALE:GREGORIAN
METHOD:PUBLISH
BEGIN:VEVENT
UID:5d9f0e08-cf3b-4698-8202-17aaec15f50d
DTSTAMP:20260422T031935Z
DTSTART;TZID=E. Australia Standard Time:20211021T093000
DTEND;TZID=E. Australia Standard Time:20211021T143000
SUMMARY:Dietetics Clinic - Mitchell
DESCRIPTION:SWHHS provide a Dietetic and Nutrition service which specialises in the use of food and nutrition to promote health and manage disease. They advise people on what to eat in order to lead a healthy lifestyle or archive a specific health-related goal.\n
LOCATION:Mitchell Multipurpose Health Service\, 95 Ann Street\, Mitchell QLD 4465\, QLD\, 4465
RRULE:FREQ=MONTHLY;INTERVAL=1;BYDAY=3MO
END:VEVENT
END:VCALENDAR
