BEGIN:VCALENDAR
VERSION:2.0
PRODID:-//My Community Diary//iCal Event//EN
CALSCALE:GREGORIAN
METHOD:PUBLISH
BEGIN:VEVENT
UID:f43efc8b-1183-4bd6-b0fd-8393e876cc6e
DTSTAMP:20260422T083515Z
DTSTART;TZID=E. Australia Standard Time:20211007T093000
DTEND;TZID=E. Australia Standard Time:20211007T143000
SUMMARY:Dietitian Clinic - Mitchell
DESCRIPTION:SWHHS provide a Dietetics and Nutrition service which specialises in the use of food and nutrition to promote health and manage disease. They advise people on what to eat in order to lead a healthy lifestyle or archive a specific health-related goal.\n
LOCATION:Mitchell Multipurpose Health Service\, 95 Ann Street\, Mitchell QLD 4465\, QLD\, 4465
RRULE:FREQ=MONTHLY;INTERVAL=1;BYDAY=3MO
END:VEVENT
END:VCALENDAR
