BEGIN:VCALENDAR
VERSION:2.0
PRODID:-//My Community Diary//iCal Event//EN
CALSCALE:GREGORIAN
METHOD:PUBLISH
BEGIN:VEVENT
UID:2f28c5e5-efa0-4f73-a26d-ae5b068efdef
DTSTAMP:20260422T033632Z
DTSTART;TZID=E. Australia Standard Time:20210825T100000
DTEND;TZID=E. Australia Standard Time:20210825T150000
SUMMARY:Physiotherapy Clinic - Mitchell
DESCRIPTION:SWHHS provide a Physiotherapy service which will work to help diagnose the cause of injury and put together a treatment plan\, sometimes including exercises and manual therapy. They also advise on managing long-term conditions.\n
LOCATION:Mitchell Medical Practice\, 95 Ann Street\, Mitchell QLD 4465\, QLD\, 4465
RRULE:FREQ=WEEKLY;INTERVAL=1;BYDAY=WE
END:VEVENT
END:VCALENDAR
