BEGIN:VCALENDAR
VERSION:2.0
PRODID:-//My Community Diary//iCal Event//EN
CALSCALE:GREGORIAN
METHOD:PUBLISH
BEGIN:VEVENT
UID:3a3946cd-8862-4759-bf04-6f79496dd711
DTSTAMP:20260422T002653Z
DTSTART;TZID=E. Australia Standard Time:20211007T090000
DTEND;TZID=E. Australia Standard Time:20211007T150000
SUMMARY:Physiotherapy Clinic - Wallumbilla
DESCRIPTION:SWHHS provide a Physiotherapy service which will work to help diagnose the cause of injury and put together a treatment plan\, sometimes including exercises and manual therapy. They also advise on managing long-term conditions.\n
LOCATION:Wallumbilla Community Clinic\, Stakeyard Road\, Wallumbilla QLD 4428\, QLD\, 4428
RRULE:FREQ=MONTHLY;INTERVAL=1;BYDAY=3MO
END:VEVENT
END:VCALENDAR
