BEGIN:VCALENDAR
VERSION:2.0
PRODID:-//My Community Diary//iCal Event//EN
CALSCALE:GREGORIAN
METHOD:PUBLISH
BEGIN:VEVENT
UID:df838012-5aa3-47ff-a6f1-0e2bc2e67235
DTSTAMP:20260422T000551Z
DTSTART;TZID=E. Australia Standard Time:20210822T083000
DTEND;TZID=E. Australia Standard Time:20210822T163000
SUMMARY:Child Development  - Roma
DESCRIPTION:SWHHS provide Child Development Services which include Physiotherapy\, Occupational Therapy\, Speech Therapy and Child Psychology.\n\nPlease note that a referral will be required from your GP/Doctor\, this will then be reviewed and categorised under clinical review and an appointment will be made accordingly.\n\nPlease contact (07) 4624 2719 for more information about this clinic.\n
LOCATION:Roma Hospital\, 197 McDowall Street\, Roma QLD 4455\, QLD\, 4455
RRULE:FREQ=WEEKLY;INTERVAL=1;BYDAY=MO,TU,WE,TH,FR
END:VEVENT
END:VCALENDAR
