BEGIN:VCALENDAR
VERSION:2.0
PRODID:-//My Community Diary//iCal Event//EN
CALSCALE:GREGORIAN
METHOD:PUBLISH
BEGIN:VEVENT
UID:cd307c57-3c65-41af-b364-91dd4a813090
DTSTAMP:20260422T001711Z
DTSTART;TZID=E. Australia Standard Time:20210823T090000
DTEND;TZID=E. Australia Standard Time:20210823T160000
SUMMARY:Dietitian - Roma
DESCRIPTION:SWHHS provide a Dietetics and Nutrition service which specialises&nbsp\;in the use of food and nutrition to promote health and manage disease. They advise people on what to eat in order to lead a healthy lifestyle or achieve a specific health-related goal.\n
LOCATION:Roma Hospital\, 197 McDowall Street\, Roma QLD 4455\, QLD\, 4455
RRULE:FREQ=WEEKLY;INTERVAL=1;BYDAY=MO,WE
END:VEVENT
END:VCALENDAR
