BEGIN:VCALENDAR
VERSION:2.0
PRODID:-//My Community Diary//iCal Event//EN
CALSCALE:GREGORIAN
METHOD:PUBLISH
BEGIN:VEVENT
UID:df3ec203-6311-4835-95da-0530bdc0144d
DTSTAMP:20260422T002850Z
DTSTART;TZID=E. Australia Standard Time:20210903T083000
DTEND;TZID=E. Australia Standard Time:20210903T120000
SUMMARY:Diabetes Educator - Roma
DESCRIPTION:SWHHS provide a Diabetes Education service which help with education and management of diabetes in patients to understand the affects\, and work with them to set (and meet) behaviour change goals to improve their health\n
LOCATION:Roma Hospital\, 197 McDowall Street\, Roma QLD 4455\, QLD\, 4455
RRULE:FREQ=WEEKLY;INTERVAL=1;BYDAY=FR
END:VEVENT
END:VCALENDAR
