BEGIN:VCALENDAR
VERSION:2.0
PRODID:-//My Community Diary//iCal Event//EN
CALSCALE:GREGORIAN
METHOD:PUBLISH
BEGIN:VEVENT
UID:fdb01275-8a46-42ac-984f-9b95355616c6
DTSTAMP:20260421T223040Z
DTSTART;TZID=E. Australia Standard Time:20210901T100000
DTEND;TZID=E. Australia Standard Time:20210901T160000
SUMMARY:Diabetes Educator - Roma
DESCRIPTION:SWHHS provide a Diabetes Education service which help with education and management of Diabetes in patients to understand the affects\, and work with them to set (and meet) behaviour change goals to improve their health.\n
LOCATION:Roma Hospital\, 197 McDowall Street\, Roma QLD 4455\, QLD\, 4455
RRULE:FREQ=WEEKLY;INTERVAL=1;BYDAY=WE
END:VEVENT
END:VCALENDAR
