BEGIN:VCALENDAR
VERSION:2.0
PRODID:-//My Community Diary//iCal Event//EN
CALSCALE:GREGORIAN
METHOD:PUBLISH
BEGIN:VEVENT
UID:0a76b2b5-f338-4b7f-a529-dca9bf94b9a2
DTSTAMP:20260424T164435Z
DTSTART:20230701T000000Z
DTEND:20230701T235959Z
SUMMARY:Australian International Music Festival
DESCRIPTION:The Australian International Music Festival is one of their most popular and best attended events. With an average of 900 to 1300 participants each year they regularly have groups from Australia\, China\, New Zealand\, Japan\, Singapore and the USA providing a fantastic musical and cultural experience.\n\nThis Music Festival is open to groups of all types but in particular Wind Bands\, Orchestra\, Choirs and Jazz Bands. As well as performing at the Sydney Opera House\, participants will also perform at venues such as the City Recital Hall [affectionately known as Angel Place] and Darling Harbour. \n\nWorld Projects South Pacific aim to expand your mind with workshops from world class clinicians flown in from around the world and cultural exchanges with other bands most of whom share your passion but speak another language\, an experience not to be missed.
LOCATION:\, Angel Place\, Sydney\, NSW 2000\, NSW\, 2000
RRULE:FREQ=DAILY;INTERVAL=1;UNTIL=20240707T000000Z
END:VEVENT
END:VCALENDAR
