BEGIN:VCALENDAR
VERSION:2.0
PRODID:-//My Community Diary//iCal Event//EN
CALSCALE:GREGORIAN
METHOD:PUBLISH
BEGIN:VEVENT
UID:dd5d0ffc-964f-4282-ae6b-5324744e69bb
DTSTAMP:20260424T155948Z
DTSTART:20201207T080000Z
DTEND:20201207T170000Z
SUMMARY:Exercise Physiology - Innisfail
DESCRIPTION:Ingrid Hagne T/As Diabetes and Health Solutions at Mamu Health Service Limited - Innisfail. Please confirm precise times with the service provider.
LOCATION:\, 10 Ernest Street\, Innisfail\, QLD\, 4860\, QLD\, 4860
END:VEVENT
END:VCALENDAR
