BEGIN:VCALENDAR
VERSION:2.0
PRODID:-//My Community Diary//iCal Event//EN
CALSCALE:GREGORIAN
METHOD:PUBLISH
BEGIN:VEVENT
UID:ee7e2cee-8fba-4a50-a449-b2add8beddc5
DTSTAMP:20260422T002757Z
DTSTART;TZID=E. Australia Standard Time:20210713T083000
DTEND;TZID=E. Australia Standard Time:20210713T153000
SUMMARY:Physiotherapist  - Roma
DESCRIPTION:SWHHS provide a Physiotherapy service which will work to help diagnose the cause of injury and put together a treatment plan\, sometimes including exercises and Manual therapy. They also advise on managing long-term conditions.\n
LOCATION:Roma Hospital\, 197 McDowall Street\, Roma QLD 4455\, QLD\, 4455
RRULE:FREQ=WEEKLY;INTERVAL=1;BYDAY=MO,TU
END:VEVENT
END:VCALENDAR
