BEGIN:VCALENDAR
VERSION:2.0
PRODID:-//My Community Diary//iCal Event//EN
CALSCALE:GREGORIAN
METHOD:PUBLISH
BEGIN:VEVENT
UID:c5d707e9-2331-4a2c-895e-128aad8d4e3c
DTSTAMP:20260422T000734Z
DTSTART;TZID=E. Australia Standard Time:20210724T090000
DTEND;TZID=E. Australia Standard Time:20210724T150000
SUMMARY:Preparation for Parenthood
DESCRIPTION:I have worked with thousands of&nbsp\;families who frequently state&nbsp\;how underprepared for parenthood they are. The initial weeks are often overwhelming. There are so many new tasks to learn\, sleep deprivation\, breastfeeding demands\, relationship adjustment and&nbsp\;hormonal changes. This workshop has been designed&nbsp\;to help parents soften the landing on the other side of birth.\n\n&nbsp\;\n
LOCATION:\, Toowoomba City QLD 4350\, QLD
RRULE:FREQ=MONTHLY;INTERVAL=1;BYMONTHDAY=24
END:VEVENT
END:VCALENDAR
