BEGIN:VCALENDAR
VERSION:2.0
PRODID:-//My Community Diary//iCal Event//EN
CALSCALE:GREGORIAN
METHOD:PUBLISH
BEGIN:VEVENT
UID:aca03fd2-7c68-4810-aab4-61d07b6a3c77
DTSTAMP:20260422T005001Z
DTSTART;TZID=AUS Eastern Standard Time:20210603T110000
DTEND;TZID=AUS Eastern Standard Time:20210603T130000
SUMMARY:Liverpool/Fairfield Mental Health Carers Support Group
DESCRIPTION:A monthly support group for carers of people living with a mental health issue.\n
LOCATION:CabraVale Diggers Club\, 1 Bartley Street\, Canley Vale NSW\, Australia\, NSW\, 2166
RRULE:FREQ=MONTHLY;INTERVAL=1;BYDAY=3MO
END:VEVENT
END:VCALENDAR
