BEGIN:VCALENDAR
VERSION:2.0
PRODID:-//My Community Diary//iCal Event//EN
CALSCALE:GREGORIAN
METHOD:PUBLISH
BEGIN:VEVENT
UID:af0c29ba-effa-4e40-b4cb-8e2ab81560f5
DTSTAMP:20260424T155033Z
DTSTART:20210216T080000Z
DTEND:20210216T170000Z
SUMMARY:General Practitioner - Womens Health - Dysart
DESCRIPTION:True Relationships & Reproductive Health at Dysart Hospital. Please confirm precise times with the service provider.
LOCATION:\, Queen Elizabeth Drive\, Dysart\, QLD\, 4745\, QLD\, 4745
END:VEVENT
END:VCALENDAR
