BEGIN:VCALENDAR
VERSION:2.0
PRODID:-//My Community Diary//iCal Event//EN
CALSCALE:GREGORIAN
METHOD:PUBLISH
BEGIN:VEVENT
UID:473fa439-9ca6-40f5-9f22-39f18bfe5b74
DTSTAMP:20260424T160647Z
DTSTART;TZID=E. Australia Standard Time:20210214T080000
DTEND;TZID=E. Australia Standard Time:20210214T170000
SUMMARY:Registered Nurse - Womens Health - Clermont
DESCRIPTION:True Relationships & Reproductive Health at Clermont Multi-Purpose Health Service. Please confirm precise times with the service provider.
LOCATION:Clermont Multi-Purpose Health Service\, 24 Francis Street Clermont QLD 4721\, QLD\, 4721
END:VEVENT
END:VCALENDAR
