BEGIN:VCALENDAR
VERSION:2.0
PRODID:-//My Community Diary//iCal Event//EN
CALSCALE:GREGORIAN
METHOD:PUBLISH
BEGIN:VEVENT
UID:3899bf95-4dd2-41f0-84c8-544c1f68b7a5
DTSTAMP:20260422T000605Z
DTSTART;TZID=E. Australia Standard Time:20210412T130000
DTEND;TZID=E. Australia Standard Time:20210412T150000
SUMMARY:Old Time Dance
DESCRIPTION:Old Time Dance - Come along and enjoy some old-time music and dancing. Tea\, coffee and biscuits provided.\n
LOCATION:TOOWOOMBA SENIOR CITIZENS CLUB\, 39 Victoria Street\, Toowoomba City QLD 4350\, QLD\, 4350
RRULE:FREQ=WEEKLY;INTERVAL=1;BYDAY=TH
END:VEVENT
END:VCALENDAR
