BEGIN:VCALENDAR
VERSION:2.0
PRODID:-//My Community Diary//iCal Event//EN
CALSCALE:GREGORIAN
METHOD:PUBLISH
BEGIN:VEVENT
UID:c955ae7c-d264-43e1-b248-610413107b4f
DTSTAMP:20260421T222214Z
DTSTART;TZID=E. Australia Standard Time:20210412T083000
DTEND;TZID=E. Australia Standard Time:20210412T120000
SUMMARY:Card Games
DESCRIPTION:Cards - 500 is the card game that is played at the club.\n
LOCATION:TOOWOOMBA SENIOR CITIZENS CLUB\, 39 Victoria Street\, Toowoomba City QLD 4350\, QLD\, 4350
RRULE:FREQ=WEEKLY;INTERVAL=1;BYDAY=TH
END:VEVENT
END:VCALENDAR
