BEGIN:VCALENDAR
VERSION:2.0
PRODID:-//My Community Diary//iCal Event//EN
CALSCALE:GREGORIAN
METHOD:PUBLISH
BEGIN:VEVENT
UID:6ede2293-5f97-4d48-bb30-165668f7566a
DTSTAMP:20260422T031916Z
DTSTART;TZID=E. Australia Standard Time:20210412T140000
DTEND;TZID=E. Australia Standard Time:20210412T150000
SUMMARY:Hawaiian Dancing
DESCRIPTION:Hawaiian dancing - Gentle movement in the Hawaiian tradition and with beautiful Hawaiian music.\n
LOCATION:TOOWOOMBA SENIOR CITIZENS CLUB\, 39 Victoria Street\, Toowoomba City QLD 4350\, QLD\, 4350
RRULE:FREQ=WEEKLY;INTERVAL=1;BYDAY=WE
END:VEVENT
END:VCALENDAR
