BEGIN:VCALENDAR
VERSION:2.0
PRODID:-//My Community Diary//iCal Event//EN
CALSCALE:GREGORIAN
METHOD:PUBLISH
BEGIN:VEVENT
UID:1432514c-c815-4344-869b-74c0b9e2c2d4
DTSTAMP:20260421T222240Z
DTSTART;TZID=E. Australia Standard Time:20210412T140000
DTEND;TZID=E. Australia Standard Time:20210412T150000
SUMMARY:Square Dancing
DESCRIPTION:Basic Square Dancing\n
LOCATION:TOOWOOMBA SENIOR CITIZENS CLUB\, 39 Victoria Street\, Toowoomba City QLD 4350\, QLD\, 4350
RRULE:FREQ=WEEKLY;INTERVAL=1;BYDAY=TU
END:VEVENT
END:VCALENDAR
