BEGIN:VCALENDAR
VERSION:2.0
PRODID:-//My Community Diary//iCal Event//EN
CALSCALE:GREGORIAN
METHOD:PUBLISH
BEGIN:VEVENT
UID:a416d32e-633b-4666-b565-21597f03e4ca
DTSTAMP:20260422T031919Z
DTSTART;TZID=AUS Eastern Standard Time:20210415T190000
DTEND;TZID=AUS Eastern Standard Time:20210415T201500
SUMMARY:General Meeting
DESCRIPTION:Association's monthly meeting - an opportunity to come along and have your say about how the Hall is run\, present ideas for events or just catch up with the news.\n\nOpen to the community.\n\nFollowed by refreshments and a chat.\n
LOCATION:Burrell Creek Hall\, 5348 The Bucketts Way\, Burrell Creek NSW 2429\, NSW\, 2429
RRULE:FREQ=MONTHLY;INTERVAL=1;BYDAY=3MO
END:VEVENT
END:VCALENDAR
