BEGIN:VCALENDAR
VERSION:2.0
PRODID:-//My Community Diary//iCal Event//EN
CALSCALE:GREGORIAN
METHOD:PUBLISH
BEGIN:VEVENT
UID:6697acff-cc59-4479-8b14-4fd27fbc7151
DTSTAMP:20260424T164532Z
DTSTART:20231012T100000Z
DTEND:20231012T190000Z
SUMMARY:Sydney MindBodySpirit Festival
DESCRIPTION:Held biannually\, the first Sydney Festival of the year is held at the International Convention Centre\, Darling Harbour. It brings together more than 200 exhibitors\, over 60 guest speakers and attracts 18\,000 health conscious visitors.
LOCATION:\, 14 Darling Drive\, Sydney\, NSW 2000\, NSW\, 2000
RRULE:FREQ=DAILY;INTERVAL=1;UNTIL=20240520T000000Z
END:VEVENT
END:VCALENDAR
