BEGIN:VCALENDAR
VERSION:2.0
PRODID:-//My Community Diary//iCal Event//EN
CALSCALE:GREGORIAN
METHOD:PUBLISH
BEGIN:VEVENT
UID:25383d0c-3883-40d7-802b-bdf1904cd905
DTSTAMP:20260424T160628Z
DTSTART:20201216T080000Z
DTEND:20201216T170000Z
SUMMARY:Physician - Cardiology - Longreach
DESCRIPTION:Metro North Hospital and Health Service (ICOP) at Longreach Hospital. Please confirm precise times with the service provider.
LOCATION:\, Jabiru Street\, Longreach\, QLD\, 4730\, QLD\, 4730
END:VEVENT
END:VCALENDAR
