BEGIN:VCALENDAR
VERSION:2.0
PRODID:-//My Community Diary//iCal Event//EN
CALSCALE:GREGORIAN
METHOD:PUBLISH
BEGIN:VEVENT
UID:bcd8101c-9a4d-4af1-8d3e-1d30777a5b2a
DTSTAMP:20260424T160637Z
DTSTART:20210207T080000Z
DTEND:20210207T170000Z
SUMMARY:Sonography - Cardiology - Gladstone
DESCRIPTION:Metro North Hospital and Health Service (ICOP) at Nhulundu Health Service – Gladstone. Please confirm precise times with the service provider.
LOCATION:\, Corner of Hixon and Manning Street\, Gladstone\, QLD\, 4680\, QLD\, 4680
END:VEVENT
END:VCALENDAR
