BEGIN:VCALENDAR
VERSION:2.0
PRODID:-//My Community Diary//iCal Event//EN
CALSCALE:GREGORIAN
METHOD:PUBLISH
BEGIN:VEVENT
UID:e7a1b5b0-09d4-4124-bee2-51b8559699ac
DTSTAMP:20260421T224156Z
DTSTART;TZID=E. Australia Standard Time:20210105T073000
DTEND;TZID=E. Australia Standard Time:20210105T090000
SUMMARY:Ladies Social Tennis
DESCRIPTION:Ladies Social Tennis is run each Tuesday from 7.30am (start time may vary for summer vs winter).\n\nLadies Social Tennis is run casually and notice is not needed. Simply turn up for a hit.\n\nCost is $5.00 per week.\n\nCoordinator is: Pru Barkla\n
LOCATION:Clifton Tennis Club\, 101 King Street\, Clifton QLD 4361\, QLD\, 4361
RRULE:FREQ=WEEKLY;INTERVAL=1;BYDAY=TU
END:VEVENT
END:VCALENDAR
