BEGIN:VCALENDAR
VERSION:2.0
PRODID:-//My Community Diary//iCal Event//EN
CALSCALE:GREGORIAN
METHOD:PUBLISH
BEGIN:VEVENT
UID:779b4322-96d3-4bce-9eed-cd0b07ea76d6
DTSTAMP:20260422T000544Z
DTSTART;TZID=E. Australia Standard Time:20210302T083000
DTEND;TZID=E. Australia Standard Time:20210302T103000
SUMMARY:Ladies Fixtures
DESCRIPTION:Ladies Fixtures is run each Tuesday at 8.30am.\n\nLadies Fixtures is run as a round robin format\, with fill-in players regularly needed.\n\nCost is $5.00 per week.\n\nCoordinator is: Janette Frahm\n
LOCATION:Clifton Tennis Club\, 101 King Street\, Clifton QLD 4361\, QLD\, 4361
RRULE:FREQ=WEEKLY;INTERVAL=1;BYDAY=TU
END:VEVENT
END:VCALENDAR
