BEGIN:VCALENDAR
VERSION:2.0
PRODID:-//My Community Diary//iCal Event//EN
CALSCALE:GREGORIAN
METHOD:PUBLISH
BEGIN:VEVENT
UID:33d5beb5-004d-4c26-af69-7d62668197d0
DTSTAMP:20260424T155901Z
DTSTART;TZID=E. Australia Standard Time:20210313T110000
DTEND;TZID=E. Australia Standard Time:20210313T120000
SUMMARY:Who needs a will? - Bribie Island Library
DESCRIPTION:Learn about the importance of having a will and the consequences of choosing not to have one.\n\nLauren Johnson\, principal solicitor at Blue Quill Legal\, shares how planning ahead can help your loved ones.\n\nFree. Bookings required*.\n\n* Libraries are operating in line with Queensland's Covid Safe Future Roadmap\, including adhering to social distancing requirements.\n
LOCATION:Moreton Bay Regional Council - Bribie Island Library\, 1 Welsby Parade\, Bongaree QLD 4507\, QLD\, 4507
END:VEVENT
END:VCALENDAR
