BEGIN:VCALENDAR
VERSION:2.0
PRODID:-//My Community Diary//iCal Event//EN
CALSCALE:GREGORIAN
METHOD:PUBLISH
BEGIN:VEVENT
UID:d667ef8f-e7e9-43b4-a259-0367e735bc58
DTSTAMP:20260424T160650Z
DTSTART:20240329T090000Z
DTEND:20240329T130000Z
SUMMARY:Brisbane To Gladstone Yacht Race - Good Friday
DESCRIPTION:Celebrate the 76th Anniversary of the annual Brisbane to Gladstone Yacht Race and saturate yourself in the competitiveness of the boating world by securing your very own front-row seat!\n\nEnjoy boating history and the electric atmosphere watching all the action and excitement up close and personal onboard the luxury vessel MV Eye Spy!\n\nEntry Cost\nAdult $99  - AUD99 - Standard \nAUD119 - Premium Seating\nAUD139 - VIP Lounge\nChild $79  - AUD79 - Standard \nAUD99 - Premium Seating\nAUD119 - VIP Lounge\n\nPlease note Children aging is 4 - 14 years.
LOCATION:\, Redcliffe Parade Redcliffe Jetty\, Redcliffe\, QLD 4020\, QLD\, 4020
END:VEVENT
END:VCALENDAR
