BEGIN:VCALENDAR
VERSION:2.0
PRODID:-//My Community Diary//iCal Event//EN
CALSCALE:GREGORIAN
METHOD:PUBLISH
BEGIN:VEVENT
UID:5a025c51-51b2-4d9a-bc58-5b96924f5442
DTSTAMP:20260424T164548Z
DTSTART:20230929T173000Z
DTEND:20230929T220000Z
SUMMARY:Full Moon Guided Kayak Paddle at Ganguddy-Dunns Swamp
DESCRIPTION:Experience a unique kayaking adventure with the Full Moon Tour\, which lasts for two hours. Paddle through the serene and captivating waters of Ganguddy - Dunns Swamp under the moonlight\, and witness the landscape transform into a new entity. Observe the night wildlife as you glide on the Cudgegong River over the moonlit water. The tour guides are skilled nighttime kayakers\, and they will provide you with all the necessary safety equipment\, briefings\, and special night kayaking gear to ensure your safety and comfort.\n\nYou may spot Rakali and even local Platypus during this magical tour. The tour departs at sunset on specific seasonal dates\, so please check the website or contact Cindy or John for more information. It is essential to keep in mind that the departure and return times of the tour vary. Also\, if you are staying elsewhere\, consider the travel distance and nighttime driving required to your accommodation.\n\nEntry Cost\nAll tickets $100  - $100 per person - all ages.\nFull Moon guided kayak tour is recommended doe paddlers 12years and over.
LOCATION:\, Dunns Swamp Road\, Ganguddy Campground\, Wollemi National Park\, Kelgoola\, NSW 2849\, NSW\, 2849
RRULE:FREQ=DAILY;INTERVAL=1;UNTIL=20240425T000000Z
END:VEVENT
END:VCALENDAR
