BEGIN:VCALENDAR
VERSION:2.0
PRODID:-//My Community Diary//iCal Event//EN
CALSCALE:GREGORIAN
METHOD:PUBLISH
BEGIN:VEVENT
UID:2015005f-4056-4b46-b141-b7ec47e02354
DTSTAMP:20260424T160716Z
DTSTART;TZID=E. Australia Standard Time:20210304T180000
DTEND;TZID=E. Australia Standard Time:20210304T203000
SUMMARY:Moranbah Inspiring Women in Isaac celebrations
DESCRIPTION:Men and woman are invited to celebrate the local Inspiring Women in Isaac nominees and award winners.\nAttendees will be treated to canapes and a drink on arrival\, and Alaina Earl from 4RFM will MC the evening’s event.\nEnjoy a panel discussion\, featuring inspiring women from varied walks of life and the men who support them.\n
LOCATION:Moranbah Community Centre\, 89 Mills Avenue Moranbah QLD 4744\, QLD\, 4744
END:VEVENT
END:VCALENDAR
