BEGIN:VCALENDAR
VERSION:2.0
PRODID:-//My Community Diary//iCal Event//EN
CALSCALE:GREGORIAN
METHOD:PUBLISH
BEGIN:VEVENT
UID:825ad243-52be-4ee9-b048-ddc58bd696f6
DTSTAMP:20260424T160801Z
DTSTART;TZID=AUS Eastern Standard Time:20210319T100000
DTEND;TZID=AUS Eastern Standard Time:20210319T150000
SUMMARY:Local Faces Art Exhibition
DESCRIPTION:Enjoy the latest exhibition "Local Faces" at the Coffs Harbour Showground Gallery\, artworks created by the Coffs Harbour Creative Arts Group members.&nbsp\;\n\nFeaturing Pastels\, Acrylics\, Watercolours\, Drawing\, Oriental Brush Painting\, Art Prints\, Porcelain\, Calligraphy\, Books\, Mosaics and wonderful ‘off the wall’ pieces.&nbsp\;\n\nThe official opening is a combined fundraiser 'Mad Hatter Tea Party' for the Coffs Harbour CanDo Cancer Trust on Sunday 21 March 2021 from 1 pm to 5 pm.\n\nOpen Monday to Friday\, from 10 am to 3 pm and Saturday from 10 am to 2 pm.\n\n&nbsp\;Entry is free and all works are for sale.\n
LOCATION:Coffs Harbour Creative Arts Group\, 112 Pacific Highway\, Coffs Harbour NSW 2450\, NSW\, 2450
RRULE:FREQ=WEEKLY;INTERVAL=1;BYDAY=MO,TU,WE,TH,FR,SA;UNTIL=20210429T000000Z
END:VEVENT
END:VCALENDAR
